BEGIN:VCALENDAR
VERSION:2.0
PRODID:11ª FESTA GASTRONÓMICA DE SANTA CRUZ || 16 a 19 de julho de 2026
X-WR-CALNAME:11ª FESTA GASTRONÓMICA DE SANTA CRUZ || 16 a 19 de julho de 
 2026
X-WR-TIMEZONE:Europe/Lisbon
X-PUBLISHED-TTL:P1W
BEGIN:VTIMEZONE
TZID:Europe/Lisbon
X-LIC-LOCATION:Europe/Lisbon
END:VTIMEZONE
BEGIN:VEVENT
UID:69ea1ebb831fd
DTSTART;VALUE=DATE:20260716
SEQUENCE:0
TRANSP:OPAQUE
DTEND;VALUE=DATE:20260717
SUMMARY:11ª FESTA GASTRONÓMICA DE SANTA CRUZ || 16 a 19 de julho de 2026
CLASS:PUBLIC
DESCRIPTION:11ª FESTA GASTRONÓMICA DE SANTA CRUZ || 16 a 19 de julho de 2
 026
X-MICROSOFT-CDO-ALLDAYEVENT:TRUE
DTSTAMP:20260423T132931Z
END:VEVENT
END:VCALENDAR